BEGIN:VCALENDAR
VERSION:2.0
PRODID:-//Conservatorium High School P&amp;C - ECPv4.6.15//NONSGML v1.0//EN
CALSCALE:GREGORIAN
METHOD:PUBLISH
X-WR-CALNAME:Conservatorium High School P&amp;C
X-ORIGINAL-URL:http://conhighpandc.org.au
X-WR-CALDESC:Events for Conservatorium High School P&amp;C
BEGIN:VEVENT
DTSTART;TZID=Australia/Sydney:20190628T183000
DTEND;TZID=Australia/Sydney:20190628T200000
DTSTAMP:20190301T153952
CREATED:20180614T074637Z
LAST-MODIFIED:20190205T094318Z
UID:3520-1561746600-1561752000@conhighpandc.org.au
SUMMARY:Year 11 Soloist Concert
DESCRIPTION:Don’t forget to note these in your diary! For further information\, including closing dates for applications and a link to apply to perform\, please visit our soloist concert website at http://conhighpandc.org.au/soloists-concerts/ \n
URL:http://conhighpandc.org.au/event/year-12-soloist-concert/
CATEGORIES:concerts
END:VEVENT
END:VCALENDAR