BEGIN:VCALENDAR
VERSION:2.0
PRODID:-//Conservatorium High School P&amp;C - ECPv4.6.15//NONSGML v1.0//EN
CALSCALE:GREGORIAN
METHOD:PUBLISH
X-WR-CALNAME:Conservatorium High School P&amp;C
X-ORIGINAL-URL:http://conhighpandc.org.au
X-WR-CALDESC:Events for Conservatorium High School P&amp;C
BEGIN:VEVENT
DTSTART;TZID=Australia/Sydney:20190322T183000
DTEND;TZID=Australia/Sydney:20190322T200000
DTSTAMP:20190301T153141
CREATED:20180131T110251Z
LAST-MODIFIED:20190205T094606Z
UID:3277-1553279400-1553284800@conhighpandc.org.au
SUMMARY:Year 10 Soloist Concert
DESCRIPTION:Don’t forget to note these in your diary! For further information\, including closing dates for applications and a link to apply to perform\, please visit our soloist concert website at http://conhighpandc.org.au/soloists-concerts/  \n
URL:http://conhighpandc.org.au/event/year-10-soloist-concert-2/
CATEGORIES:concerts
END:VEVENT
END:VCALENDAR